BEGIN:VCALENDAR
VERSION:2.0
CREATED:20260217T235728Z
PRODID:-//Red Cat Holdings\, Inc./Equisolve Calendar v1.0//EN
METHOD:PUBLISH
BEGIN:VEVENT
UID:b4f9c9ebfc9de126b7960fda0ab5eda2
DTSTAMP:20260419T125917Z
DTSTART:20260318T203000Z
DTEND:20260318T213000Z
SUMMARY:Q4 2025 Earnings Conference Call
DESCRIPTION:Q4 2025 Earnings Conference Call\nDate: Mar 18\, 2026 4:30 pm EDT\nWebcast: https://event.choruscall.com/mediaframe/webcast.html?webcastid=jQVk6g5y
END:VEVENT
END:VCALENDAR
